Workbook
Name DF_GRID_1: #N/A
Name DF_GRID_2: #N/A

Sheet BExRepositorySheet
A1: 7
C14: Filter

Sheet SAŽETAK
A1: 52209 HRVATSKA ZAKLADA ZA ZNANOST
A3: PRERASPODJELA FINANCIJSKOG PLANA ZA 2025. GODINU
A5: I. OPĆI DIO
A8: A. SAŽETAK RAČUNA PRIHODA I RASHODA
A10: BROJČANA OZNAKA I NAZIV | B10: Izvorni plan | C10: Tekući plan | D10: Povećanje/smanjenje | E10: Izvorni plan ili rebalans 2025. | F10: Tekući plan 2025. | G10: Povećanje/smanjenje | H10: Novi plan (Preraspodjela financijskog plana 2025.)
A11: 1 | B11: 2 | C11: 3 | D11: 4 | E11: 2 | F11: 3 | G11: 4 | H11: 5
A12: 6 PRIHODI POSLOVANJA | B12: 52637486 | C12: 52637486 | D12: ='Račun prihoda i rashoda- ekonom'!F8 -> -11239716 | E12: 41397770 | F12: =C12+D12 -> 41397770 | G12: =H12-F12 -> -326688.99 | H12: 41071081
A13: 7 PRIHODI OD PRODAJE NEFINANCIJSKE IMOVINE | B13: 0 | C13: 0 | D13: 0 | E13: 0 | F13: =C13+D13 -> 0 | G13: 0 | H13: =F13+G13 -> 0
A14: UKUPNI PRIHODI | B14: =B12+B13 -> 52637486 | C14: 52637486 | D14: =D12+D13 -> -11239716 | E14: 41397770 | F14: =C14+D14 -> 41397770 | G14: =G12+G13 -> -326688.99 | H14: =F14+G14 -> 41071081
A15: 3 RASHODI POSLOVANJA | B15: 52554071 | C15: 52554071 | D15: ='Račun prihoda i rashoda- ekonom'!F19 -> -11253936 | E15: 41300135 | F15: =C15+D15 -> 41300135 | G15: =H15-F15 -> -275688.99 | H15: 41024446
A16: 4 RASHODI ZA NABAVU NEFINANCIJSKE IMOVINE | B16: 135288 | C16: 135288 | D16: ='Račun prihoda i rashoda- ekonom'!F26 -> -36750 | E16: 98538 | F16: =C16+D16 -> 98538 | G16: =H16-F16 -> -51000 | H16: 47538
A17: UKUPNI RASHODI | B17: =B15+B16 -> 52689359 | C17: =C15+C16 -> 52689359 | D17: =D15+D16 -> -11290686 | E17: 41398673 | F17: =C17+D17 -> 41398673 | G17: =G15+G16 -> -326688.99 | H17: =H15+H16 -> 41071984
A18: RAZLIKA - VIŠAK / MANJAK | B18: =B14-B17 -> -51873 | C18: =C14-C17 -> -51873 | D18: =D14-D17 -> 50970 | E18: -903 | F18: =C18+D18 -> -903 | G18: =G14-G17 -> 0 | H18: =H12-H17 -> -903
A20: B. SAŽETAK RAČUNA FINANCIRANJA
A22: BROJČANA OZNAKA I NAZIV | B22: Izvorni plan | C22: Tekući plan | D22: Povećanje/smanjenje | F22: Tekući plan 2025. | G22: Povećanje/smanjenje | H22: Novi plan (Preraspodjela financijskog plana 2025.)
A23: 1 | B23: 2 | C23: 3 | D23: 4 | E23: 2 | F23: 3 | G23: 4 | H23: 5
A24: 8 PRIMICI OD FINANCIJSKE IMOVINE I ZADUŽIVANJA | B24: 0 | C24: 0 | D24: 0 | E24: 0 | F24: 0 | G24: 0 | H24: 0
A25: 5 IZDACI ZA FINANCIJSKU IMOVINU I OTPLATE ZAJMOVA | B25: 0 | C25: 0 | D25: 0 | E25: 0 | F25: 0 | G25: 0 | H25: 0
A26: RAZLIKA PRIMITAKA I IZDATAKA
A27: PRIJENOS SREDSTAVA IZ PRETHODNE GODINE | B27: 73382 | C27: 73382 | D27: 109704 | E27: 183086 | F27: =C27+D27 -> 183086 | G27: 0 | H27: =F27+G27 -> 183086
A28: PRIJENOS SREDSTAVA U NAREDNU GODINU | B28: 21509 | C28: 21509 | D28: 160674 | E28: 182183 | F28: =C28+D28 -> 182183 | G28: 0 | H28: =F28+G28 -> 182183
A29: NETO FINANCIRANJE | B29: =B27-B28 -> 51873 | C29: =C27-C28 -> 51873 | D29: =D27-D28 -> -50970 | E29: 903 | F29: =F27-F28 -> 903 | G29: =G27-G28 -> 0 | H29: =H27-H28 -> 903
A30: VIŠAK / MANJAK + NETO FINANCIRANJE | B30: =B18+B29 -> 0 | C30: =C18+C29 -> 0 | D30: =D18+D29 -> 0 | E30: 0 | F30: =F18+F29 -> 0 | G30: =G18+G29 -> 0 | H30: =H18+H29 -> 0

Sheet Račun prihoda i rashoda- ekonom
A1: A. RAČUN PRIHODA I RASHODA
A3: A1. PRIHODI I RASHODI PREMA EKONOMSKOJ KLASIFIKACIJI
A6: BROJČANA OZNAKA I NAZIV | D6: Izvorni plan | E6: Tekući plan | F6: Povećanje/smanjenje | G6: Izvorni plan ili rebalans 2025. | H6: Tekući plan 2025. | I6: Povećanje/smanjenje | J6: Novi plan (Preraspodjela financijskog plana 2025.)
A7: 1 | D7: 2 | E7: 3 | F7: 4 | G7: 2 | H7: 3 | I7: 4 | J7: 5
C8: UKUPNI PRIHODI | D8: =D9 -> 52637486 | E8: =E9 -> 52637486 | F8: =F9 -> -11239716 | G8: 41397770 | H8: =H9 -> 41397770 | I8: =J8-H8 -> -326688.99 | J8: =J9 -> 41071081
A9: 6 | B9: =IF(ISNUMBER( SEARCH("YYY",#REF!)),LEFT(#REF!, LEN(#REF!)-3),"") | C9: Prihodi poslovanja | D9: =D10+D11+D12 -> 52637486 | E9: =E10+E11+E12 -> 52637486 | F9: =F10+F11+F12 -> -11239716 | G9: 41397770 | H9: =H10+H11+H12 -> 41397770 | I9: =J9-H9 -> -326688.99 | J9: =J10+J11+J12 -> 41071081
A10: =IF(ISNUMBER( SEARCH("XXX",#REF!)),LEFT(#REF!, LEN(#REF!)-3),"") | B10: 63 | C10: Pomoći iz inozemstva (darovnice) i od subjekata unutar općeg proračuna | D10: 1000 | E10: 1000 | F10: ='Račun prihoda i rashoda- izvori'!E12 -> 7661 | G10: 8661 | H10: =E10+F10 -> 8661 | I10: =J10-H10 -> 0 | J10: 8661
A11: =IF(ISNUMBER( SEARCH("XXX",#REF!)),LEFT(#REF!, LEN(#REF!)-3),"") | B11: 64 | C11: Prihodi od imovine | D11: 20 | E11: 20 | F11: 0 | G11: 20 | H11: 20 | I11: =J11-H11 -> 0 | J11: 20
A12: =IF(ISNUMBER( SEARCH("XXX",#REF!)),LEFT(#REF!, LEN(#REF!)-3),"") | B12: 67 | C12: Prihodi iz proračuna | D12: 52636466 | E12: 52636466 | F12: ='Račun prihoda i rashoda- izvori'!E6+'Račun prihoda i rashoda- izvori'!E16+'Račun prihoda i rashoda- izvori'!E14 -> -11247377 | G12: 41389089 | H12: =E12+F12 -> 41389089 | I12: =J12-H12 -> -326688.99 | J12: 41062400
A16: BROJČANA OZNAKA I NAZIV | D16: Izvorni plan | E16: Tekući plan | F16: Povećanje/smanjenje | G16: Izvorni plan ili rebalans 2025. | H16: Tekući plan 2025. | I16: Povećanje/smanjenje | J16: Novi plan (Preraspodjela financijskog plana 2025.)
A17: 1 | D17: 2 | E17: 3 | F17: 4 | H17: 2 | I17: 3 | J17: 4
C18: UKUPNI RASHODI | D18: =D19+D26 -> 52689359 | E18: =E19+E26 -> 52689359 | F18: =F19+F26 -> -11290686 | G18: 41398673 | H18: =E18+F18 -> 41398673 | I18: =I19+I26 -> -326688.99 | J18: =J19+J26 -> 41071984
A19: 3 | B19: =IF(ISNUMBER(VALUE(#REF!)),#REF!,"") | C19: Rashodi poslovanja | D19: =D20+D21+D22+D23+D24+D25 -> 52554071 | E19: =E20+E21+E22+E23+E24+E25 -> 52554071 | F19: =F20+F21+F22+F23+F24+F25 -> -11253936 | G19: 41300135 | H19: =E19+F19 -> 41300135 | I19: =J19-H19 -> -275688.99 | J19: =J20+J21+J22+J23+J24+J25 -> 41024446
A20: =IF(ISNUMBER(VALUE(#REF!)),#REF!,"") | B20: 31 | C20: Rashodi za zaposlene | D20: 1500143 | E20: 1500143 | F20: ='POSEBNI DIO'!E31+'POSEBNI DIO'!E65+'POSEBNI DIO'!E142+'POSEBNI DIO'!E148+'POSEBNI DIO'!E155+'POSEBNI DIO'!E117 -> 38406 | G20: 1538549 | H20: =E20+F20 -> 1538549 | I20: =J20-H20 -> -87395 | J20: 1451154
A21: =IF(ISNUMBER(VALUE(#REF!)),#REF!,"") | B21: 32 | C21: Materijalni rashodi | D21: 1093461 | E21: 1093461 | F21: ='POSEBNI DIO'!E24+'POSEBNI DIO'!E27+'POSEBNI DIO'!E32+'POSEBNI DIO'!E43+'POSEBNI DIO'!E51+'POSEBNI DIO'!E66+'POSEBNI DIO'!E71+'POSEBNI DIO'!E86+'POSEBNI DIO'!E91+'POSEBNI DIO'!E103+'POSEBNI DIO'!E143+'POSEBNI DIO'!E149+'POSEBNI DIO'!E156+'POSEBNI DIO'!E118 -> -187721 | G21: 905740 | H21: =E21+F21 -> 905740 | I21: =J21-H21 -> -186194 | J21: 719546
A22: =IF(ISNUMBER(VALUE(#REF!)),#REF!,"") | B22: 34 | C22: Financijski rashodi | D22: 498 | E22: 498 | G22: 498 | H22: =E22+F22 -> 498 | I22: =J22-H22 -> -100 | J22: 398
A23: =IF(ISNUMBER(VALUE(#REF!)),#REF!,"") | B23: 35 | C23: Subvencije | D23: 0 | E23: 0 | F23: 2071 | G23: 2071 | H23: =E23+F23 -> 2071 | I23: =J23-H23 -> 0 | J23: 2071
A24: =IF(ISNUMBER(VALUE(#REF!)),#REF!,"") | B24: 36 | C24: Pomoći dane u inozemstvo i unutar općeg proračuna | D24: 24826011 | E24: 24826011 | F24: ='POSEBNI DIO'!E19+'POSEBNI DIO'!E34+'POSEBNI DIO'!E47+'POSEBNI DIO'!E52+'POSEBNI DIO'!E55+'POSEBNI DIO'!E60+'POSEBNI DIO'!E68+'POSEBNI DIO'!E76+'POSEBNI DIO'!E81+'POSEBNI DIO'!E87+'POSEBNI DIO'!E92+'POSEBNI DIO'!E95+'POSEBNI DIO'!E99+'POSEBNI DIO'!E104+'POSEBNI DIO'!E107+'POSEBNI DIO'!E112+'POSEBNI DIO'!E123+'POSEBNI DIO'!E127+'POSEBNI DIO'!E130+'POSEBNI DIO'!E134+'POSEBNI DIO'!E138+'POSEBNI DIO'!E145+'POSEBNI DIO'!E151 -> 8003722 | G24: 32829733 | H24: 38158993 | I24: =J24-H24 -> -2000 | J24: 38156993
A25: =IF(ISNUMBER(VALUE(#REF!)),#REF!,"") | B25: 38 | C25: Ostali rashodi | D25: 25133958 | E25: 25133958 | F25: ='POSEBNI DIO'!E20+'POSEBNI DIO'!E48+'POSEBNI DIO'!E56+'POSEBNI DIO'!E61+'POSEBNI DIO'!E67+'POSEBNI DIO'!E77+'POSEBNI DIO'!E82+'POSEBNI DIO'!E88+'POSEBNI DIO'!E100+'POSEBNI DIO'!E108+'POSEBNI DIO'!E113+'POSEBNI DIO'!E119+'POSEBNI DIO'!E124+'POSEBNI DIO'!E135 -> -19110414 | G25: 6023544 | H25: 694284 | I25: =J25-H25 -> 0 | J25: 694284
A26: 4 | B26: =IF(ISNUMBER(VALUE(#REF!)),#REF!,"") | C26: Rashodi za nabavu nefinancijske imovine | D26: =D27+D28 -> 135288 | E26: =E27+E28 -> 135288 | F26: =F27+F28 -> -36750 | G26: 98538 | H26: =E26+F26 -> 98538 | I26: =I27+I28 -> -51000 | J26: =H26+I26 -> 47538
A27: =IF(ISNUMBER(VALUE(#REF!)),#REF!,"") | B27: 41 | C27: Rashodi za nabavu neproizvedene dugotrajne imovine | D27: 72000 | E27: 72000 | F27: ='POSEBNI DIO'!E36 -> -16750 | G27: 0 | H27: =E27+F27 -> 55250 | I27: =J27-H27 -> -51000 | J27: 4250
A28: =IF(ISNUMBER(VALUE(#REF!)),#REF!,"") | B28: 42 | C28: Rashodi za nabavu proizvedene dugotrajne imovine | D28: 63288 | E28: 63288 | F28: ='POSEBNI DIO'!E37 -> -20000 | G28: 0 | H28: =E28+F28 -> 43288 | I28: ='POSEBNI DIO'!G37 -> 0 | J28: =H28+I28 -> 43288

Sheet Račun prihoda i rashoda- izvori
A1: A2. PRIHODI I RASHODI PREMA IZVORIMA FINANCIRANJA
A3: BROJČANA OZNAKA I NAZIV | C3: Izvorni plan | D3: Tekući plan | E3: Povećanje/smanjenje | F3: Izvorni plan ili rebalans 2025. | G3: Tekući plan 2025. | H3: Povećanje/smanjenje | I3: Novi plan (Preraspodjela financijskog plana 2025.)
A4: 1 | C4: 2 | D4: 3 | E4: 4 | F4: 2 | G4: 3 | H4: 4 | I4: 5
B5: UKUPNI PRIHODI | C5: =C6+C9+C11 -> 52637486 | D5: =D6+D9+D11 -> 52637486 | E5: =E6+E9+E11 -> -11239716 | F5: 41397770 | G5: =D5+E5 -> 41397770 | H5: =H6+H9+H11 -> -326688.99 | I5: =G5+H5 -> 41071081
A6: 1 | B6: Opći prihodi i primici | C6: =C7+C8 -> 47369166 | D6: =D7+D8 -> 47369166 | E6: =E7+E8 -> -13259077 | F6: 34110089 | G6: =D6+E6 -> 34110089 | H6: =H7+H8 -> -326688.99 | I6: =G6+H6 -> 33783400
A7: 11 | B7: Opći prihodi i primici | C7: 47105678 | D7: 47105678 | E7: ='POSEBNI DIO'!E5 -> -13288808 | F7: 33816870 | G7: =D7+E7 -> 33816870 | H7: =I7-G7 -> -311897.99 | I7: 33504972
A8: 12 | B8: Sredstva učešća za pomoći | C8: 263488 | D8: 263488 | E8: ='POSEBNI DIO'!E6 -> 29731 | F8: 293219 | G8: =D8+E8 -> 293219 | H8: =I8-G8 -> -14791 | I8: 278428
A9: 4 | B9: Prihodi za posebne namjene | C9: =C10 -> 20 | D9: =D10 -> 20 | E9: =E10 -> 0 | F9: 20 | G9: =D9+E9 -> 20 | H9: =H10 -> 0 | I9: =I10 -> 20
A10: 43 | B10: Ostali prihodi za posebne namjene | C10: 20 | D10: 20 | E10: ='POSEBNI DIO'!E7 -> 0 | F10: 20 | G10: =D10+E10 -> 20 | H10: ='POSEBNI DIO'!G7 -> 0 | I10: 20
A11: 5 | B11: Pomoći | C11: =C12+C13+C14+C15+C16 -> 5268300 | D11: =D12+D13+D14+D15+D16 -> 5268300 | E11: =E12+E13+E14+E15+E16 -> 2019361 | F11: 7287661 | G11: =D11+E11 -> 7287661 | H11: =H12+H13+H14+H15+H16 -> 0 | I11: =G11+H11 -> 7287661
A12: 51 | B12: Pomoći EU | C12: 1000 | D12: 1000 | E12: 7661 | F12: 8661 | G12: =D12+E12 -> 8661 | H12: 0 | I12: =G12+H12 -> 8661
A13: 52 | B13: Ostale pomoći i darovnice | C13: 0 | D13: 0 | F13: 0 | G13: =D13+E13 -> 0 | H13: 0 | I13: =G13+H13 -> 0
A14: 55 | B14: Refundacije iz pomoći EU | C14: 11000 | D14: 11000 | E14: ='POSEBNI DIO'!E10 -> -11000 | F14: 0 | G14: =D14+E14 -> 0 | H14: ='POSEBNI DIO'!G10 -> 0 | I14: =G14+H14 -> 0
A15: 56 | B15: Fondovi EU | C15: 0 | D15: 0 | E15: ='POSEBNI DIO'!E11 -> 0 | F15: 0 | G15: =D15+E15 -> 0 | H15: ='POSEBNI DIO'!G11 -> 0 | I15: =G15+H15 -> 0
A16: 58 | B16: Instrumenti EU nove generacije | C16: 5256300 | D16: 5256300 | E16: ='POSEBNI DIO'!E12 -> 2022700 | F16: 7279000 | G16: =D16+E16 -> 7279000 | H16: ='POSEBNI DIO'!G12 -> 0 | I16: =G16+H16 -> 7279000
B18: UKUPNO RASHODI | C18: =C19+C22+C24 -> 52689359 | D18: =D19+D22+D24 -> 52689359 | E18: =E19+E22+E24 -> -11290686 | F18: 41397770 | G18: =D18+E18 -> 41398673 | H18: =I18-G18 -> -326688.99 | I18: =I19+I22+I24 -> 41071984
A19: 1 | B19: Opći prihodi i primici | C19: =C20+C21 -> 47369166 | D19: =D20+D21 -> 47369166 | E19: =E20+E21 -> -13259077 | F19: 34110089 | G19: =D19+E19 -> 34110089 | H19: =I19-G19 -> -326688.99 | I19: =I20+I21 -> 33783400
A20: 11 | B20: Opći prihodi i primici | C20: 47105678 | D20: 47105678 | E20: ='POSEBNI DIO'!E5 -> -13288808 | F20: 33816870 | G20: =D20+E20 -> 33816870 | H20: =I20-G20 -> -311897.99 | I20: 33504972
A21: 12 | B21: Sredstva učešća za pomoći | C21: 263488 | D21: 263488 | E21: ='POSEBNI DIO'!E6 -> 29731 | F21: 293219 | G21: =D21+E21 -> 293219 | H21: =I21-G21 -> -14791 | I21: 278428
A22: 4 | B22: Prihodi za posebne namjene | C22: =C23 -> 20 | D22: =D23 -> 20 | E22: =E23 -> 0 | F22: 20 | G22: =D22+E22 -> 20 | H22: =I22-G22 -> 0 | I22: =I23 -> 20
A23: 43 | B23: Ostali prihodi za posebne namjene | C23: 20 | D23: 20 | E23: ='POSEBNI DIO'!E7 -> 0 | F23: 20 | G23: =D23+E23 -> 20 | H23: =I23-G23 -> 0 | I23: 20
A24: 5 | B24: Pomoći | C24: =C25+C26+C27+C28+C29 -> 5320173 | D24: =D25+D26+D27+D28+D29 -> 5320173 | E24: =E25+E26+E27+E28+E29 -> 1968391 | F24: 7287661 | G24: =D24+E24 -> 7288564 | H24: =I24-G24 -> 0 | I24: =I25+I26+I27+I28+I29 -> 7288564
A25: 51 | B25: Pomoći EU | C25: 5000 | D25: 5000 | E25: ='POSEBNI DIO'!E8 -> 222 | F25: 8661 | G25: =D25+E25 -> 5222 | H25: =I25-G25 -> 0 | I25: 5222
A26: 52 | B26: Ostale pomoći i darovnice | C26: 47873 | D26: 47873 | E26: ='POSEBNI DIO'!E9 -> -43531 | F26: 0 | G26: =D26+E26 -> 4342 | H26: =I26-G26 -> 0 | I26: 4342
A27: 55 | B27: Refundacije iz pomoći EU | C27: 11000 | D27: 11000 | E27: ='POSEBNI DIO'!E10 -> -11000 | F27: 0 | G27: 0 | H27: ='POSEBNI DIO'!G10 -> 0 | I27: =G27+H27 -> 0
A28: 56 | B28: Fondovi EU | C28: 0 | D28: 0 | E28: ='POSEBNI DIO'!E11 -> 0 | F28: 0 | G28: 0 | H28: ='POSEBNI DIO'!G11 -> 0 | I28: =G28+H28 -> 0
A29: 58 | B29: Instrumenti EU nove generacije | C29: 5256300 | D29: 5256300 | E29: ='POSEBNI DIO'!E12 -> 2022700 | F29: 7279000 | G29: =D29+E29 -> 7279000 | H29: =I29-G29 -> 0 | I29: 7279000

Sheet Račun rashoda- funkcijska
A1: A3. RASHODI PREMA FUNKCIJSKOJ KLASIFIKACIJI
A3: BROJČANA OZNAKA I NAZIV | C3: Izvorni plan | D3: Tekući plan | E3: Povećanje/smanjenje | F3: Izvorni plan ili rebalans 2025. | G3: Tekući plan 2025. | H3: Povećanje/smanjenje | I3: Novi plan (Preraspodjela financijskog plana 2025.)
A4: 1 | C4: 2 | D4: 3 | E4: 4 | F4: 2 | G4: 3 | H4: 4 | I4: 5
B5: UKUPNI RASHODI | C5: =C6 -> 52689359 | D5: =D6 -> 52689359 | E5: =E6 -> -11290686 | F5: 41398673 | G5: =G6 -> 41398673 | H5: =I5-G5 -> -326688.99 | I5: =I6 -> 41071984
A6: 01 | B6: Opće javne usluge | C6: =C7 -> 52689359 | D6: =D7 -> 52689359 | E6: =E7 -> -11290686 | F6: 41398673 | G6: =G7 -> 41398673 | H6: =I6-G6 -> -326688.99 | I6: =I7 -> 41071984
A7: 015 | B7: Istraživanje i razvoj: Opće javne usluge | C7: 52689359 | D7: 52689359 | E7: ='POSEBNI DIO'!E4 -> -11290686 | F7: 41398673 | G7: =D7+E7 -> 41398673 | H7: =I7-G7 -> -326688.99 | I7: 41071984
G27: 0
G28: 0

Sheet Račun financiranja- ekonom
A1: I. OPĆI DIO
A3: B. RAČUN FINANCIRANJA
A5: B1. RAČUN FINANCIRANJA PREMA EKONOMSKOJ KLASIFIKACIJI
A7: BROJČANA OZNAKA I NAZIV | D7: Izvorni plan | E7: Izvorni plan ili rebalans 2025. | F7: Tekući plan | G7: Povećanje/smanjenje | H7: Novi plan (Preraspodjela financijskog plana 2025.)
A8: 1 | D8: 2 | E8: 2 | F8: 3 | G8: 4 | H8: 5
A9: 8 | C9: Primici od financijske imovine i zaduživanja | D9: 0 | F9: 0 | G9: 0 | H9: 0
A10: 5 | C10: Izdaci za financijsku imovinu i otplate zajmova | D10: 0 | F10: 0 | G10: 0 | H10: 0
G27: 0
G28: 0

Sheet Račun financiranja-izvori
A3: B2. RAČUN FINANCIRANJA PREMA IZVORIMA FINANCIRANJA
A5: BROJČANA OZNAKA I NAZIV | D5: Izvorni plan | E5: Izvorni plan ili rebalans 2025. | F5: Tekući plan | G5: Povećanje/smanjenje | H5: Novi plan (Preraspodjela financijskog plana 2025.)
A6: 1 | D6: 2 | E6: 2 | F6: 3 | G6: 4 | H6: 5
A7: UKUPNO PRIMICI | D7: 0 | F7: 0 | G7: 0 | H7: 0
A8: 1 Opći prihodi i primici | D8: 0 | F8: 0 | G8: =G49 -> 0 | H8: 0
A9: 11 Opći prihodi i primici | D9: 0 | F9: 0 | G9: 0 | H9: 0
G27: 0
G28: 0

Sheet POSEBNI DIO
A1: II. POSEBNI DIO
A3: BROJČANA OZNAKA I NAZIV | C3: Izvorni plan | D3: Tekući plan | E3: Povećanje/smanjenje | F3: Izvorni plan ili rebalans 2025. | G3: Povećanje/smanjenje | H3: Tekući plan 2025. | I3: Povećanje/smanjenje | J3: Novi plan (Preraspodjela financijskog plana 2025.)
A4: 52209 | B4: HRVATSKA ZAKLADA ZA ZNANOST | C4: =C5+C6+C7+C8+C9+C10+C11+C12 -> 52689359 | D4: =D5+D6+D7+D8+D9+D10+D11+D12 -> 52689359 | E4: =SUM(E5:E12) -> -11290686 | F4: =C4+E4 -> 41398673 | G4: =SUM(G5:G12) -> 0 | H4: =F4+G4 -> 41398673 | I4: =J4-H4 -> -326688.99 | J4: =J5+J6+J7+J8+J9+J10+J11+J12 -> 41071984
A5: 11 | B5: Opći prihodi i primici | C5: =C16+C29+C45+C73+C97+C110+C115+C121+C137 -> 47105678 | D5: =D16+D29+D45+D73+D97+D110+D115+D121+D137 -> 47105678 | E5: =E16+E29+E45+E73+E97+E110+E115+E121+E136+E153 -> -13288808 | F5: =C5+E5 -> 33816870 | G5: =G16+G29+G45+G73+G97+G110+G115+G121+G136+G153 -> 0 | H5: =F5+G5 -> 33816870 | I5: =J5-H5 -> -311897.99 | J5: 33504972
A6: 12 | B6: Sredstva učešća za pomoći | C6: =C22+C63+C84+C125+C140 -> 263488 | D6: =D22+D63+D84+D125+D140 -> 263488 | E6: =E22+E63+E125+E140 -> 29731 | F6: =C6+E6 -> 293219 | G6: =G22+G63+G125+G140 -> 0 | H6: =F6+G6 -> 293219 | I6: =J6-H6 -> -14791 | J6: 278428
A7: 43 | B7: Ostali prihodi za posebne namjene | C7: =C25+C78+C89+C38 -> 20 | D7: =D25+D78+D89+D38 -> 20 | E7: =E25+E38+E78+E89 -> 0 | F7: =C7+E7 -> 20 | G7: =G25+G38+G78+G89 -> 0 | H7: =F7+G7 -> 20 | I7: =I25+I38+I78+I89 -> 0 | J7: =H7+I7 -> 20
A8: 51 | B8: Pomoći EU | C8: =C41+C49+C101+C128 -> 5000 | D8: =D41+D49+D101+D128 -> 5000 | E8: =E49+E101+E128 -> 222 | F8: =C8+E8 -> 5222 | G8: =G49+G101+G128 -> 0 | H8: =F8+G8 -> 5222 | I8: =I49+I101+I128 -> 0 | J8: =H8+I8 -> 5222
A9: 52 | B9: Ostale pomoći i darovnice | C9: =C53+C105 -> 47873 | D9: =D53+D105 -> 47873 | E9: =E53+E105 -> -43531 | F9: =C9+E9 -> 4342 | G9: =G53+G105 -> 0 | H9: =F9+G9 -> 4342 | I9: =I53+I105 -> 0 | J9: =H9+I9 -> 4342
A10: 55 | B10: Refundacije iz pomoći EU | C10: =C69+C93 -> 11000 | D10: =D69+D93 -> 11000 | E10: =E69 -> -11000 | F10: =C10+E10 -> 0 | G10: =G69 -> 0 | H10: =F10+G10 -> 0 | I10: =I69 -> 0 | J10: =H10+I10 -> 0
A11: 56 | B11: Fondovi EU | C11: =C146 -> 0 | D11: =D146 -> 0 | E11: =E146 -> 0 | F11: =C11+E11 -> 0 | G11: =G146 -> 0 | H11: =F11+G11 -> 0 | I11: =I146 -> 0 | J11: =H11+I11 -> 0
A12: 58 | B12: Instrumenti EU nove generacije | C12: =C58+C132 -> 5256300 | D12: =D58+D132 -> 5256300 | E12: =E58+E132 -> 2022700 | F12: =C12+E12 -> 7279000 | G12: =G58+G132 -> 0 | H12: =F12+G12 -> 7279000 | I12: =I58+I132 -> 0 | J12: =H12+I12 -> 7279000
A13: 38 | B13: ZNANOST I TEHNOLOŠKI RAZVOJ | C13: =C14 -> 52689359 | D13: =D14 -> 52689359 | E13: =E14 -> -11290686 | F13: =C13+E13 -> 41398673 | G13: =G14 -> 0 | H13: =F13+G13 -> 41398673 | I13: =J13-H13 -> -326688.99 | J13: =J4 -> 41071984
A14: 3801 | B14: ULAGANJE U ZNANSTVENO ISTRAŽIVAČKU DJELATNOST | C14: =C15+C21+C28+C44+C57+C62+C72+C83+C96+C120+C139+C131+C109+C114 -> 52689359 | D14: =D15+D21+D28+D44+D57+D62+D72+D83+D96+D120+D139+D131+D109+D114 -> 52689359 | E14: =E15+E21+E28+E44+E57+E62+E72+E83+E96+E109+E114+E120+E131+E139+E152 -> -11290686 | F14: =C14+E14 -> 41398673 | G14: =G15+G21+G28+G44+G57+G62+G72+G83+G96+G109+G114+G120+G131+G139+G152 -> 0 | H14: =F14+G14 -> 41398673 | I14: =J14-H14 -> -326689 | J14: =J15+J28+J44+J57+J62+J72+J96+J114+J120+J131+J152 -> 41071984
A15: A557042 | B15: PROGRAM DOKTORANADA I POSLIJEDOKTORANADA HRVATSKE ZAKLADE ZA ZNANOST | C15: =C16 -> 12467500 | D15: =D16 -> 12467500 | E15: =E16 -> -3673250 | F15: =C15+E15 -> 8794250 | G15: =G16 -> -424951 | H15: =F15+G15 -> 8369299 | I15: =J15-H15 -> 0 | J15: =J16 -> 8369299
A16: 11 | B16: Opći prihodi i primici | C16: 12467500 | D16: 12467500 | E16: =E17 -> -3673250 | F16: =C16+E16 -> 8794250 | G16: =G17 -> -424951 | H16: =F16+G16 -> 8369299 | I16: =J16-H16 -> 0 | J16: =J17 -> 8369299
A17: 3 | B17: Rashodi poslovanja | C17: 12467500 | D17: 12467500 | E17: =E18+E19+E20 -> -3673250 | F17: =C17+E17 -> 8794250 | G17: =G18+G19+G20 -> -424951 | H17: =F17+G17 -> 8369299 | I17: =J17-H17 -> 0 | J17: =J18+J19+J20 -> 8369299
A18: 35 | B18: Subvencije | C18: 0 | D18: 0 | E18: 2071 | F18: =C18+E18 -> 2071 | H18: =F18+G18 -> 2071 | I18: 0 | J18: =H18+I18 -> 2071
A19: 36 | B19: Pomoći dane u inozemstvo i unutar općeg proračuna | C19: 8367500 | D19: 8367500 | E19: 131523.99 | F19: =C19+E19 -> 8499024 | G19: -424951 | H19: =F19+G19 -> 8074073 | I19: 0 | J19: =H19+I19 -> 8074073
A20: 38 | B20: Ostali rashodi | C20: 4100000 | D20: 4100000 | E20: -3806845 | F20: =C20+E20 -> 293155 | H20: =F20+G20 -> 293155 | I20: 0 | J20: =H20+I20 -> 293155
A21: A578055 | B21: HRVATSKO-ŠVICARSKI ISTRAŽIVAČKI PROGRAM | C21: =C22+C25 -> 0 | D21: =D22+D25 -> 0 | E21: =E22+E25 -> 0 | F21: =C21+E21 -> 0 | G21: =G22+G25 -> 0 | H21: =F21+G21 -> 0 | I21: =I22+I25 -> 0 | J21: =H21+I21 -> 0
A22: 12 | B22: Sredstva učešća za pomoći | C22: 0 | D22: 0 | E22: =E23 -> 0 | F22: =C22+E22 -> 0 | G22: =G23 -> 0 | H22: =F22+G22 -> 0 | I22: =I23 -> 0 | J22: =H22+I22 -> 0
A23: 3 | B23: Rashodi poslovanja | C23: 0 | D23: 0 | E23: =E24 -> 0 | F23: =C23+E23 -> 0 | G23: =G24 -> 0 | H23: =F23+G23 -> 0 | I23: =I24 -> 0 | J23: =H23+I23 -> 0
A24: 32 | B24: Materijalni rashodi | C24: 0 | D24: 0 | F24: =C24+E24 -> 0 | H24: =F24+G24 -> 0 | I24: 0 | J24: =H24+I24 -> 0
A25: 43 | B25: Ostali prihodi za posebne namjene | C25: 0 | D25: 0 | E25: =E26 -> 0 | F25: =C25+E25 -> 0 | G25: =G26 -> 0 | H25: =F25+G25 -> 0 | I25: =I26 -> 0 | J25: =H25+I25 -> 0
A26: 3 | B26: Rashodi poslovanja | C26: 0 | D26: 0 | E26: =E27 -> 0 | F26: =C26+E26 -> 0 | G26: =G27 -> 0 | H26: =F26+G26 -> 0 | I26: =I27 -> 0 | J26: =H26+I26 -> 0
A27: 32 | B27: Materijalni rashodi | C27: 0 | D27: 0 | F27: =C27+E27 -> 0 | G27: 0 | H27: =F27+G27 -> 0 | I27: 0 | J27: =H27+I27 -> 0
A28: A578069 | B28: ADMINISTRACIJA I UPRAVLJANJE HRVATSKE ZAKLADE ZA ZNANOST | C28: =C29+C41+C38 -> 2683857 | D28: =D29+D41+D38 -> 2683857 | E28: =E29+E38+E41 -> -196669 | F28: =C28+E28 -> 2487188 | G28: 0 | H28: =F28+G28 -> 2487188 | I28: =J28-H28 -> -303237 | J28: =J29+J38 -> 2183951
A29: 11 | B29: Opći prihodi i primici | C29: 2683837 | D29: 2683837 | E29: =E30+E35 -> -196669 | F29: =F30+F35 -> 2487168 | G29: =G30+G35 -> 0 | H29: =F29+G29 -> 2487168 | I29: =J29-H29 -> -303237 | J29: =J30+J35 -> 2183931
A30: 3 | B30: Rashodi poslovanja | C30: 2548549 | D30: 2548549 | E30: =E31+E32+E33+E34 -> -159919 | F30: =F31+F32+F33+F34 -> 2388630 | G30: =G31+G32+G33+G34 -> 0 | H30: =F30+G30 -> 2388630 | I30: =J30-H30 -> -252237 | J30: =J31+J32+J33+J34 -> 2136393
A31: 31 | B31: Rashodi za zaposlene | C31: 1489852 | D31: 1489852 | E31: 23444 | F31: =C31+E31 -> 1513296 | H31: =F31+G31 -> 1513296 | I31: =J31-H31 -> -68560 | J31: 1444736
A32: 32 | B32: Materijalni rashodi | C32: 1056219 | D32: 1056219 | E32: -183363 | F32: =C32+E32 -> 872856 | H32: =F32+G32 -> 872856 | I32: =J32-H32 -> -181577 | J32: 691279
A33: 34 | B33: Financijski rashodi | C33: 478 | D33: 478 | F33: 478 | H33: =F33+G33 -> 478 | I33: =J33-H33 -> -100 | J33: 378
A34: 36 | B34: Pomoći dane u inozemstvo i unutar općeg proračuna | C34: 2000 | D34: 2000 | F34: =C34+E34 -> 2000 | H34: =F34+G34 -> 2000 | I34: =J34-H34 -> -2000 | J34: 0
A35: 4 | B35: Rashodi za nabavu nefinancijske imovine | C35: 135288 | D35: 135288 | E35: =E36+E37 -> -36750 | F35: =C35+E35 -> 98538 | G35: =G36+G37 -> 0 | H35: =F35+G35 -> 98538 | I35: =J35-H35 -> -51000 | J35: =J36+J37 -> 47538
A36: 41 | B36: Rashodi za nabavu neproizvedene dugotrajne imovine | C36: 72000 | D36: 72000 | E36: -16750 | F36: =C36+E36 -> 55250 | H36: =F36+G36 -> 55250 | I36: =J36-H36 -> -51000 | J36: 4250
A37: 42 | B37: Rashodi za nabavu proizvedene dugotrajne imovine | C37: 63288 | D37: 63288 | E37: -20000 | F37: =C37+E37 -> 43288 | H37: =F37+G37 -> 43288 | I37: 0 | J37: =H37+I37 -> 43288
A38: 43 | B38: Ostali prihodi za posebne namjene | C38: =C39 -> 20 | D38: =D39 -> 20 | E38: =E39 -> 0 | F38: =C38+E38 -> 20 | G38: =G39 -> 0 | H38: =F38+G38 -> 20 | I38: =I39 -> 0 | J38: =H38+I38 -> 20
A39: 3 | B39: Rashodi poslovanja | C39: =C40 -> 20 | D39: =D40 -> 20 | E39: =E40 -> 0 | F39: =C39+E39 -> 20 | G39: =G40 -> 0 | H39: =F39+G39 -> 20 | I39: =I40 -> 0 | J39: =H39+I39 -> 20
A40: 34 | B40: Financijski rashodi | C40: 20 | D40: 20 | F40: =C40+E40 -> 20 | H40: =F40+G40 -> 20 | I40: 0 | J40: =H40+I40 -> 20
A41: 51 | B41: Pomoći EU | C41: 0 | D41: 0 | E41: =E42 -> 0 | F41: =C41+E41 -> 0 | G41: =G42 -> 0 | H41: =F41+G41 -> 0 | I41: =I42 -> 0 | J41: =H41+I41 -> 0
...

Sheet BW upit
B1: Table
C2: Izvršenje 2021. (PLG G-2) | D2: Plan 2022. (TP G-1) | E2: Proračun za 2023. (PP G) | F2: Projekcija proračuna za 2024. (PP G+1) | G2: Projekcija proračuna za 2025. (PP G+2)
E3: EUR | F3: EUR | G3: EUR
B4: 6 Prihodi poslovanja | E4: 35122489 | F4: 32389345 | G4: 30671774
B5: 7 Prihod od prodaje nefinancijske imovine
B6: Prihodi | E6: 35122489 | F6: 32389345 | G6: 30671774
B7: 3 Rashodi poslovanja | E7: 34806515 | F7: 32336256 | G7: 30618685
B8: 4 Rashodi za nabavu nefinancijske imovine | E8: 319862 | F8: 53089 | G8: 53089
B9: Rashodi | E9: 35126377 | F9: 32389345 | G9: 30671774
B10: Razlika - Višak / Manjak | E10: -3888 | F10: 0 | G10: 0
B11: 8 Primici od financijske imovine i zaduživanja
B12: 5 Izdaci za financijsku imovinu i otplate zajmova
B13: Donos | E13: 3888 | F13: 0
B14: Odnos | E14: 0 | F14: 0
B15: Neto financiranje | E15: 3888 | F15: 0
B16: Višak/Manjak + Neto financiranje | E16: 0 | F16: 0 | G16: 0

Sheet Tekst varijable
A1: Hrvatska zaklada za znanost
A2: 52209
